BEGIN:VCALENDAR
VERSION:2.0
PRODID:-//Luke Olsen Photography - ECPv6.0.10//NONSGML v1.0//EN
CALSCALE:GREGORIAN
METHOD:PUBLISH
X-ORIGINAL-URL:https://lukeolsenphotography.com
X-WR-CALDESC:Events for Luke Olsen Photography
REFRESH-INTERVAL;VALUE=DURATION:PT1H
X-Robots-Tag:noindex
X-PUBLISHED-TTL:PT1H
BEGIN:VTIMEZONE
TZID:America/Los_Angeles
BEGIN:DAYLIGHT
TZOFFSETFROM:-0800
TZOFFSETTO:-0700
TZNAME:PDT
DTSTART:20250309T100000
END:DAYLIGHT
BEGIN:STANDARD
TZOFFSETFROM:-0700
TZOFFSETTO:-0800
TZNAME:PST
DTSTART:20251102T090000
END:STANDARD
END:VTIMEZONE
BEGIN:VEVENT
DTSTART;TZID=America/Los_Angeles:20250712T160000
DTEND;TZID=America/Los_Angeles:20250712T190000
DTSTAMP:20260420T143942
CREATED:20250707T192252Z
LAST-MODIFIED:20250707T192252Z
UID:2579-1752336000-1752346800@lukeolsenphotography.com
SUMMARY:﻿Marc McVey\, Paris in Black and White and Color  Summer Member’s Exhibit
DESCRIPTION:Marc McVey\, Paris in Black and White and Color Summer Member’s Exhibit \nJuly 12 – August 6\, 2025\nOpening: July 12th\, 4-7 pm \nLightBox Photographic Gallery & Fine Printing\n1045 Marine Drive\nAstoria\, Oregon 97103\n(503) 468-0238\nHours: Wednesday – Saturday 12 pm to 5 pm \nLightBox Photographic Gallery opens The LightBox Summer Member’s Exhibit and Marc McVey’s exhibit “Paris in Black and White and Color” from 4-7pm on Saturday. July 12th. “Paris is a city that has ignited the passions of artists for centuries. From painters and sculpturers\, to writers\, dancers\, and musicians\, Paris rewards all forms of efforts to memorialize her. From the early 1900s\, the camera has allowed a new breed of artists to add their voice to describe this world city. \nI have been lucky to “see” Paris over three decades and twenty plus visits. With my camera and a good pair of walking shoes\, I am attempting to add my efforts to take you to this city and show you a few frames of what I have seen. My photographs reflect my personal vision and perhaps will inspire a smile or a pause in your day and a conversation later. Take a small journey with me\, find a story or two with my images.” \nComplete show info is on the LightBox website\, http://lightbox-photographic.c…. LightBox always features work from The Guild at LightBox consisting of Jim Fitzgerald\, Jody Miller\, Julie Moore\, Marc McVey\, Rachel Wolf\, Kathy Radie\, Michael Puff and Loren Nelson. Contact LightBox at 503-468-0238. LightBox is located at 1045 Marine Drive\, Wed. – Sat.\, 12 – 5:00pm.
URL:https://lukeolsenphotography.com/event/marc-mcvey-paris-in-black-and-white-and-color-summer-members-exhibit/
LOCATION:LightBox Photographic Gallery\, 1045 Marine Dr.\, Astoria\, OR\, 97103\, United States
END:VEVENT
END:VCALENDAR