BEGIN:VCALENDAR
VERSION:2.0
PRODID:-//Luke Olsen Photography - ECPv6.0.10//NONSGML v1.0//EN
CALSCALE:GREGORIAN
METHOD:PUBLISH
X-ORIGINAL-URL:https://lukeolsenphotography.com
X-WR-CALDESC:Events for Luke Olsen Photography
REFRESH-INTERVAL;VALUE=DURATION:PT1H
X-Robots-Tag:noindex
X-PUBLISHED-TTL:PT1H
BEGIN:VTIMEZONE
TZID:America/Los_Angeles
BEGIN:DAYLIGHT
TZOFFSETFROM:-0800
TZOFFSETTO:-0700
TZNAME:PDT
DTSTART:20250309T100000
END:DAYLIGHT
BEGIN:STANDARD
TZOFFSETFROM:-0700
TZOFFSETTO:-0800
TZNAME:PST
DTSTART:20251102T090000
END:STANDARD
END:VTIMEZONE
BEGIN:VEVENT
DTSTART;TZID=America/Los_Angeles:20250711T170000
DTEND;TZID=America/Los_Angeles:20250711T190000
DTSTAMP:20260420T144044
CREATED:20250607T141441Z
LAST-MODIFIED:20250607T141441Z
UID:2569-1752253200-1752260400@lukeolsenphotography.com
SUMMARY:The PhotoZone Gallery call for entries for the annual Juried Show
DESCRIPTION:The PhotoZone Gallery call for entries for the annual Juried Show \nJuly 1 – August 1\, 2025\nReception: Friday July 11\, 2025 from 5:00 – 7:30pm. \nEmerald Art Center\n500 Main St.\nSpringfield\, OR 97477\nHours – Tuesday – Saturday 11am to 4pm\nhttps://www.emeraldartcenter.o… \nEntry Fee is $15 for one print – $25 for two prints
URL:https://lukeolsenphotography.com/event/the-photozone-gallery-call-for-entries-for-the-annual-juried-show/
LOCATION:Emerald Art Center\, 500 Main St.\, Springfield\, OR\, 97477\, United States
END:VEVENT
END:VCALENDAR